BEGIN:VCALENDAR
VERSION:2.0
PRODID:-// - ECPv6.12.0.1//NONSGML v1.0//EN
CALSCALE:GREGORIAN
METHOD:PUBLISH
X-ORIGINAL-URL:https://igs-emmelshausen.de
X-WR-CALDESC:Veranstaltungen für 
REFRESH-INTERVAL;VALUE=DURATION:PT1H
X-Robots-Tag:noindex
X-PUBLISHED-TTL:PT1H
BEGIN:VTIMEZONE
TZID:UTC
BEGIN:STANDARD
TZOFFSETFROM:+0000
TZOFFSETTO:+0000
TZNAME:UTC
DTSTART:20250101T000000
END:STANDARD
END:VTIMEZONE
BEGIN:VEVENT
DTSTART;VALUE=DATE:20250303
DTEND;VALUE=DATE:20250305
DTSTAMP:20260421T192800
CREATED:20241030T095303Z
LAST-MODIFIED:20241030T095359Z
UID:1369-1740960000-1741132799@igs-emmelshausen.de
SUMMARY:Rosenmontag & Fastnachtsdienstag | bewegliche Ferientage
DESCRIPTION:unterrichtsfrei
URL:https://igs-emmelshausen.de/event/beweglicher-ferientag-2
END:VEVENT
END:VCALENDAR