BEGIN:VCALENDAR
VERSION:2.0
PRODID:-// - ECPv6.12.0.1//NONSGML v1.0//EN
CALSCALE:GREGORIAN
METHOD:PUBLISH
X-ORIGINAL-URL:https://igs-emmelshausen.de
X-WR-CALDESC:Veranstaltungen für 
REFRESH-INTERVAL;VALUE=DURATION:PT1H
X-Robots-Tag:noindex
X-PUBLISHED-TTL:PT1H
BEGIN:VTIMEZONE
TZID:UTC
BEGIN:STANDARD
TZOFFSETFROM:+0000
TZOFFSETTO:+0000
TZNAME:UTC
DTSTART:20250101T000000
END:STANDARD
END:VTIMEZONE
BEGIN:VEVENT
DTSTART;VALUE=DATE:20250501
DTEND;VALUE=DATE:20250502
DTSTAMP:20260425T104239
CREATED:20241030T100343Z
LAST-MODIFIED:20241030T100412Z
UID:1386-1746057600-1746143999@igs-emmelshausen.de
SUMMARY:Tag der Arbeit
DESCRIPTION:unterrichtsfrei
URL:https://igs-emmelshausen.de/event/tag-der-arbeit
END:VEVENT
END:VCALENDAR