BEGIN:VCALENDAR
VERSION:2.0
PRODID:-// - ECPv6.12.0.1//NONSGML v1.0//EN
CALSCALE:GREGORIAN
METHOD:PUBLISH
X-ORIGINAL-URL:https://igs-emmelshausen.de
X-WR-CALDESC:Veranstaltungen für 
REFRESH-INTERVAL;VALUE=DURATION:PT1H
X-Robots-Tag:noindex
X-PUBLISHED-TTL:PT1H
BEGIN:VTIMEZONE
TZID:UTC
BEGIN:STANDARD
TZOFFSETFROM:+0000
TZOFFSETTO:+0000
TZNAME:UTC
DTSTART:20250101T000000
END:STANDARD
END:VTIMEZONE
BEGIN:VEVENT
DTSTART;TZID=UTC:20250627T080000
DTEND;TZID=UTC:20250627T170000
DTSTAMP:20260421T135907
CREATED:20250515T102843Z
LAST-MODIFIED:20250611T194513Z
UID:2647-1751011200-1751043600@igs-emmelshausen.de
SUMMARY:Schulbuchrücknahme 5-8\, MSS
DESCRIPTION:
URL:https://igs-emmelshausen.de/event/schulbuchruecknahme-5-8-mss
END:VEVENT
END:VCALENDAR